Workbook

Sheet CORPORATE PROFILE
A2: ======== PLEASE PRINT LEGIBLY AND IN ALL CAPITAL LETTERS |DATE FORMAT: DD MONTH YYYY | N/A if not applicable ========
A4: I. CORPORATE PROFILE
A5: CORPORATE NAME:
A6: BUSINESS/TRADE NAME:
A7: SEC. REGISTRATION NO: | C7: DATE REGISTERED:
A8: COMPLETE PRINCIPAL OFFICE ADDRESS: | C8: COMPLETE BUSINESS ADDRESS:
A9: Unit/Floor/Bldg. Name | C9: Unit/Floor/Bldg. Name
A10: Street Address | C10: Street Address
A11: Barangay | C11: Barangay
A12: City/Municipality | C12: City/Municipality
A13: Province | C13: Province
A14: Zip Code | C14: Zip Code
A15: CORPORATE TIN | C15: FISCAL YEAR PER ARTICLES:
A17: INDUSTRY CLASSIFICATION: | C17: GEOGRAPHICAL CODE:
A19: PURPOSE: (SUMMARY OF BUSINESS ACTIVITY)
A20: NOMINEE AND ALTERNATE NOMINEE'S INFORMATION
A21: FIRST NAME | C21: DATE OF APPOINTMENT
A22: MIDDLE NAME | C22: NATIONALITY
A23: FAMILY NAME | C23: GENDER
A24: EXTN. | C24: OFFICER/POSITION
A25: FIRST NAME | C25: DATE OF APPOINTMENT
A26: MIDDLE NAME | C26: NATIONALITY
A27: FAMILY NAME | C27: GENDER
A28: EXTN. | C28: OFFICER/POSITION
A29: OFFICERS' INFORMATION
A30: FIRST NAME | C30: DATE OF APPOINTMENT
A31: MIDDLE NAME | C31: NATIONALITY
A32: FAMILY NAME | C32: GENDER
A33: EXTN. | C33: OFFICER/POSITION
A34: FIRST NAME | C34: DATE OF APPOINTMENT
A35: MIDDLE NAME | C35: NATIONALITY
A36: FAMILY NAME | C36: GENDER
A37: EXTN. | C37: OFFICER/POSITION
A38: FIRST NAME | C38: DATE OF APPOINTMENT
A39: MIDDLE NAME | C39: NATIONALITY
A40: FAMILY NAME | C40: GENDER
A41: EXTN. | C41: OFFICER/POSITION
... A45: EXTN. | C45: OFFICER/POSITION
A46: NOTE: USE ADDITIONAL SHEET IF NECESSARY
A47: Conforme (if applicable): | C47: Certified Correct:
A48: I consent and accept my appointment as Nominee
C50: NAME AND SIGNATURE OF SINGLE STOCKHOLDER/PRESIDENT
A51: NAME AND SIGNATURE OF APPOINTED NOMINEE | C51: TIN:
A52: TIN:
A53: I consent and accept my appointment as Alternate Nominee
A56: NAME AND SIGNATURE OF APPOINTED ALTERNATE NOMINEE
A57: TIN:
A58: SUBSCRIBED AND SWORN TO | B58: before me in _____________________________ | C58: on _________________________________ | D58: by affiant who personally appeaerd
A59: before me and exhibited to me | B59: his/her compitent evidence of identity | C59: consisting of _____________________ | D59: issued at _______________________________
A60: on ________________________________
A61: Doc. No. _______
A62: Page No. _______
A63: Book No. _______ | D63: NOTARY PUBLIC
A64: Series of _______;

Sheet OFFICERS' INFORMATION
C1: ='CORPORATE PROFILE'!C1 -> 0
A2: ======== PLEASE PRINT LEGIBLY AND IN ALL CAPITAL LETTERS |DATE FORMAT: DD MONTH YYYY | N/A if not applicable ========
A4: II. OFFICERS' INFORMATION
A5: CORPORATE NAME: | B5: ='CORPORATE PROFILE'!B5 -> 0 | C5: Note: This page shall not be uploaded to the Commission's publicly accessible electronic database.
A6: COMPLETE NAME: | C6: COMPLETE RESIDENTIAL ADDRESS:
A7: First Name | B7: ='CORPORATE PROFILE'!B30 -> 0 | C7: Unit/Floor/Bldg. Name
A8: Middle Name | B8: ='CORPORATE PROFILE'!B31 -> 0 | C8: Street Address
A9: Family Name | B9: ='CORPORATE PROFILE'!B32 -> 0 | C9: Barangay
A10: Extn. | B10: ='CORPORATE PROFILE'!B33 -> 0 | C10: City/Municipality
A11: NATIONALITY | B11: ='CORPORATE PROFILE'!D31 -> 0 | C11: Province
A12: TAX IDENTIFICATION NUMBER: | C12: Zip Code
A13: COMPLETE NAME: | C13: COMPLETE RESIDENTIAL ADDRESS:
A14: First Name | B14: ='CORPORATE PROFILE'!B34 -> 0 | C14: Unit/Floor/Bldg. Name
A15: Middle Name | B15: ='CORPORATE PROFILE'!B35 -> 0 | C15: FISCAL YEAR PER ARTICLES:
A16: Family Name | B16: ='CORPORATE PROFILE'!B36 -> 0 | C16: Barangay
A17: Extn. | B17: ='CORPORATE PROFILE'!B37 -> 0 | C17: City/Municipality
A18: NATIONALITY | B18: ='CORPORATE PROFILE'!D35 -> 0 | C18: Province
A19: TAX IDENTIFICATION NUMBER: | C19: Zip Code
A20: COMPLETE NAME: | C20: COMPLETE RESIDENTIAL ADDRESS:
A21: First Name | B21: ='CORPORATE PROFILE'!B38 -> 0 | C21: Unit/Floor/Bldg. Name
A22: Middle Name | B22: ='CORPORATE PROFILE'!B39 -> 0 | C22: Street Address
A23: Family Name | B23: ='CORPORATE PROFILE'!B40 -> 0 | C23: Barangay
A24: Extn. | B24: ='CORPORATE PROFILE'!B41 -> 0 | C24: City/Municipality
A25: NATIONALITY | B25: ='CORPORATE PROFILE'!D39 -> 0 | C25: Province
A26: TAX IDENTIFICATION NUMBER: | C26: Zip Code
A27: COMPLETE NAME: | C27: COMPLETE RESIDENTIAL ADDRESS:
A28: First Name | B28: ='CORPORATE PROFILE'!B42 -> 0 | C28: Unit/Floor/Bldg. Name
A29: Middle Name | B29: ='CORPORATE PROFILE'!B43 -> 0 | C29: Street Address
A30: Family Name | B30: ='CORPORATE PROFILE'!B44 -> 0 | C30: Barangay
A31: Extn. | B31: ='CORPORATE PROFILE'!B45 -> 0 | C31: City/Municipality
A32: NATIONALITY | B32: ='CORPORATE PROFILE'!D43 -> 0 | C32: Province
A33: TAX IDENTIFICATION NUMBER: | C33: Zip Code
A34: COMPLETE NAME OF NOMINEE: | C34: COMPLETE RESIDENTIAL ADDRESS:
A35: First Name | B35: ='CORPORATE PROFILE'!B21 -> 0 | C35: Unit/Floor/Bldg. Name
A36: Middle Name | B36: ='CORPORATE PROFILE'!B22 -> 0 | C36: Street Address
A37: Family Name | B37: ='CORPORATE PROFILE'!B23 -> 0 | C37: Barangay
A38: Extn. | B38: ='CORPORATE PROFILE'!B24 -> 0 | C38: City/Municipality
A39: NATIONALITY | B39: ='CORPORATE PROFILE'!D22 -> 0 | C39: Province
A40: TAX IDENTIFICATION NUMBER: | C40: Zip Code
A41: COMPLETE NAME OF ALTERNATE NOMINEE: | C41: COMPLETE RESIDENTIAL ADDRESS:
A42: First Name | B42: ='CORPORATE PROFILE'!B25 -> 0 | C42: Unit/Floor/Bldg. Name
A43: Middle Name | B43: ='CORPORATE PROFILE'!B26 -> 0 | C43: Street Address
A44: Family Name | B44: ='CORPORATE PROFILE'!B27 -> 0 | C44: Barangay
A45: Extn. | B45: ='CORPORATE PROFILE'!B28 -> 0 | C45: City/Municipality
A46: NATIONALITY | B46: ='CORPORATE PROFILE'!D26 -> 0 | C46: Province
A47: TAX IDENTIFICATION NUMBER: | C47: Zip Code
C48: Certified Correct:
C51: NAME AND SIGNATURE OF SINGLE STOCKHOLDER/PRESIDENT
C52: TIN:
A55: SUBSCRIBED AND SWORN TO | B55: before me in _____________________________ | C55: on _________________________________ | D55: by affiant who personally appeaerd
A56: before me and exhibited to me | B56: his/her compitent evidence of identity | C56: consisting of _____________________ | D56: issued at _______________________________
A57: on ________________________________
A58: Doc. No. _______
A59: Page No. _______
A60: Book No. _______ | D60: NOTARY PUBLIC
A61: Series of _______;
